BEGIN:VCALENDAR
VERSION:2.0
PRODID:-//ChamberMaster//Event Calendar 2.0//EN
METHOD:PUBLISH
X-PUBLISHED-TTL:P3D
REFRESH-INTERVAL:P3D
CALSCALE:GREGORIAN
BEGIN:VEVENT
DTSTART:20180409T210000Z
DTEND:20180409T230000Z
X-MICROSOFT-CDO-ALLDAYEVENT:FALSE
SUMMARY:Ask An Attorney
DESCRIPTION:The Franklin County Bar Association will offer free legal advice for the public and Bar Association members will be on the phone to answer questions about the law and your rights. The Ask-An-Attorney program is a public service of the Bar Association.
X-ALT-DESC;FMTTYPE=text/html:The Franklin County Bar Association will offer free legal advice for the public and Bar Association members will be on the phone to answer questions about the law and your rights. The Ask-An-Attorney program is a public service of the Bar Association.
LOCATION:
UID:e.2182.10069
SEQUENCE:3
DTSTAMP:20260424T153253Z
URL:http://franklincc.chambermaster.com/events/details/ask-an-attorney-10069
END:VEVENT

END:VCALENDAR
