BEGIN:VCALENDAR
VERSION:2.0
PRODID:-//ChamberMaster//Event Calendar 2.0//EN
METHOD:PUBLISH
X-PUBLISHED-TTL:P3D
REFRESH-INTERVAL:P3D
CALSCALE:GREGORIAN
BEGIN:VEVENT
DTSTART:20180428T013000Z
DTEND:20180428T035500Z
X-MICROSOFT-CDO-ALLDAYEVENT:FALSE
SUMMARY:Bluegrass and Beyond Sessions
DESCRIPTION:A bluegrass/new grass/folk and more jam session.
X-ALT-DESC;FMTTYPE=text/html:A bluegrass/new grass/folk and more jam session.
LOCATION:The Rendezvous\, 78 Third Street\, Turners Falls
UID:e.2182.11857
SEQUENCE:3
DTSTAMP:20260423T202553Z
URL:http://franklincc.chambermaster.com/events/details/bluegrass-and-beyond-sessions-11857
END:VEVENT

END:VCALENDAR
