BEGIN:VCALENDAR
VERSION:2.0
PRODID:-//ChamberMaster//Event Calendar 2.0//EN
METHOD:PUBLISH
X-PUBLISHED-TTL:P3D
REFRESH-INTERVAL:P3D
CALSCALE:GREGORIAN
BEGIN:VEVENT
DTSTART:20180227T160000Z
DTEND:20180227T180000Z
X-MICROSOFT-CDO-ALLDAYEVENT:FALSE
SUMMARY:Connected Marketing
DESCRIPTION:Consider This! \n\nToday consumers are inundated with marketing messages\, today's session will help you focus your marketing initiatives so that they reach their intended audience and they take your call for action.\n\n	WHO  Are your customers going to be?\n	Where Are they located?\n	When Do they decide to buy your product or service?\n	Why Do they "need" your product or service?\n	How Will you find them or they find you?\n	What Is your product or service worth?\n	Do they have the resources to pay for it?\n\n\n\nAll of your advertising must be connected to your specific company goals and own a part of that final number. That's what we'll talk about today.\n\n \n\nSponsored by Western Massachusetts SCORE\, Franklin County Chamber of Commerce\, and TD Bank.
X-ALT-DESC;FMTTYPE=text/html:Consider This!&nbsp\;<br />\nToday consumers are inundated with marketing messages\, today&rsquo\;s session will help you focus your marketing initiatives so that they reach their intended audience and they take your call for action.\n<ul>\n	<li>WHO&nbsp\; Are your customers going to be?</li>\n	<li>Where Are they located?</li>\n	<li>When Do they decide to buy your product or service?</li>\n	<li>Why Do they &ldquo\;need&rdquo\; your product or service?</li>\n	<li>How Will you find them or they find you?</li>\n	<li>What Is your product or service worth?</li>\n	<li>Do they have the resources to pay for it?</li>\n</ul>\n<br />\nAll of your advertising must be connected to your specific company goals and own a part of that final number. That&#39\;s what we&#39\;ll talk about today.<br />\n&nbsp\;<br />\nSponsored by <strong><em>Western Massachusetts SCORE\, Franklin County Chamber of Commerce\, and TD Bank.</em></strong>
LOCATION:TD Bank Greenfield\, 324 Main Street\, Greenfield\, MA 01301
UID:e.2182.9231
SEQUENCE:3
DTSTAMP:20260425T115542Z
URL:http://franklincc.chambermaster.com/events/details/connected-marketing-9231
END:VEVENT

END:VCALENDAR
