BEGIN:VCALENDAR
VERSION:2.0
PRODID:-//ChamberMaster//Event Calendar 2.0//EN
METHOD:PUBLISH
X-PUBLISHED-TTL:P3D
REFRESH-INTERVAL:P3D
CALSCALE:GREGORIAN
BEGIN:VEVENT
DTSTART:20180425T223000Z
DTEND:20180426T003000Z
X-MICROSOFT-CDO-ALLDAYEVENT:FALSE
SUMMARY:Creating Tiny Homes & Alternative Septic Systems
DESCRIPTION:Three speakers will discuss their experiences with building outside the box in MA. Tiny/small homes\, alternative building practices and septic systems\, and navigating MA building codes will be the focus of the evening. Questions and comments will be welcomed and encouraged. Speakers: Susanne Hale\, Emi Link\, and Jonathan and Susan von Ranson. Discussion will take place in the upstairs meeting room at Green Fields Market- 144 Main St\, Greenfield\, MA 01301.
X-ALT-DESC;FMTTYPE=text/html:Three speakers will discuss their experiences with building outside the box in MA. Tiny/small homes\, alternative building practices and septic systems\, and navigating MA building codes will be the focus of the evening. Questions and comments will be welcomed and encouraged. Speakers: Susanne Hale\, Emi Link\, and Jonathan and Susan von Ranson. Discussion will take place in the upstairs meeting room at Green Fields Market- 144 Main St\, Greenfield\, MA 01301.&nbsp\;
LOCATION:Green Fields Market\, 144 Main Street\, Greenfield\, MA 01301
UID:e.2182.11803
SEQUENCE:3
DTSTAMP:20260424T143145Z
URL:http://franklincc.chambermaster.com/events/details/creating-tiny-homes-alternative-septic-systems-11803
END:VEVENT

END:VCALENDAR
