BEGIN:VCALENDAR
VERSION:2.0
PRODID:-//ChamberMaster//Event Calendar 2.0//EN
METHOD:PUBLISH
X-PUBLISHED-TTL:P3D
REFRESH-INTERVAL:P3D
CALSCALE:GREGORIAN
BEGIN:VEVENT
DTSTART:20180414T003000Z
DTEND:20180414T023000Z
X-MICROSOFT-CDO-ALLDAYEVENT:FALSE
SUMMARY:"Date Night"
DESCRIPTION:
X-ALT-DESC;FMTTYPE=text/html:
LOCATION:The Rendezvous\, 78 Third Street\, Turners Falls
UID:e.2182.10354
SEQUENCE:3
DTSTAMP:20260425T125717Z
URL:http://franklincc.chambermaster.com/events/details/date-night-10354
END:VEVENT

END:VCALENDAR
