BEGIN:VCALENDAR
VERSION:2.0
PRODID:-//ChamberMaster//Event Calendar 2.0//EN
METHOD:PUBLISH
X-PUBLISHED-TTL:P3D
REFRESH-INTERVAL:P3D
CALSCALE:GREGORIAN
BEGIN:VEVENT
DTSTART:20180525T003000Z
DTEND:20180525T030000Z
X-MICROSOFT-CDO-ALLDAYEVENT:FALSE
SUMMARY:Dave Bartley
DESCRIPTION:Jazz singer and piano player features songs of Mose Allison and other jazz standards.
X-ALT-DESC;FMTTYPE=text/html:Jazz singer and piano player features songs of Mose Allison and other jazz standards.
LOCATION:The Rendezvous\, 78 Third Street\, Turners Falls
UID:e.2182.12215
SEQUENCE:3
DTSTAMP:20260422T115244Z
URL:http://franklincc.chambermaster.com/events/details/dave-bartley-12215
END:VEVENT

END:VCALENDAR
