BEGIN:VCALENDAR
VERSION:2.0
PRODID:-//ChamberMaster//Event Calendar 2.0//EN
METHOD:PUBLISH
X-PUBLISHED-TTL:P3D
REFRESH-INTERVAL:P3D
CALSCALE:GREGORIAN
BEGIN:VEVENT
DTSTART:20180311T023000Z
DTEND:20180311T043000Z
X-MICROSOFT-CDO-ALLDAYEVENT:FALSE
SUMMARY:David Bartley's Jazz Bomb
DESCRIPTION:The quartet of David Bartley\, Charlie Tokarz\, David Christopolis and Fran Curley.
X-ALT-DESC;FMTTYPE=text/html:The quartet of David Bartley\, Charlie Tokarz\, David Christopolis and Fran Curley.
LOCATION:The Rendezvous\, 78 Third Street\, Turners Falls
UID:e.2182.9834
SEQUENCE:3
DTSTAMP:20260426T005107Z
URL:http://franklincc.chambermaster.com/events/details/david-bartley-s-jazz-bomb-9834
END:VEVENT

END:VCALENDAR
