BEGIN:VCALENDAR
VERSION:2.0
PRODID:-//ChamberMaster//Event Calendar 2.0//EN
METHOD:PUBLISH
X-PUBLISHED-TTL:P3D
REFRESH-INTERVAL:P3D
CALSCALE:GREGORIAN
BEGIN:VEVENT
DTSTART:20180428T170000Z
DTEND:20180428T180000Z
X-MICROSOFT-CDO-ALLDAYEVENT:FALSE
SUMMARY:Decoding African American Spirituals
DESCRIPTION:A sing\, hum\, clap\, stomp-along music experience for the entire family. Participants will learn songs in the time honored call and response oral tradition. Many of the songs contain coded lyrics which will be explained in the context of the struggle for freedom. Participants will also hear about the early African-American tradition of banjo and drum playing. Gloria Matlock and Michael Nix explore the historical context of African American Spirituals and the role they have played in the survival of Black people in America in a sing along concert. \n\nLearn more about ArtWeek .\n\nClick here for a listing of other ArtWeek events in our area.
X-ALT-DESC;FMTTYPE=text/html:A sing\, hum\, clap\, stomp-along music experience for the entire family. Participants will learn songs in the time honored call and response oral tradition. Many of the songs contain coded lyrics which will be explained in the context of the struggle for freedom. Participants will also hear about the early African-American tradition of banjo and drum playing. Gloria Matlock and Michael Nix explore the historical context of African American Spirituals and the role they have played in the survival of Black people in America in a sing along concert.&nbsp\;<br />\nLearn more about <strong><a href="http://www.artweekma.org/about/">ArtWeek&nbsp\;</a>.</strong><br />\n<a href="http://franklincc.org/whats-new/241-franklin-county-artweek-events"><strong>Click here</strong></a> for a listing of other ArtWeek events in our area.&nbsp\;
LOCATION:Montague Center Public Library\, 17 Center Street\, Montague
UID:e.2182.10564
SEQUENCE:3
DTSTAMP:20260426T005106Z
URL:http://franklincc.chambermaster.com/events/details/decoding-african-american-spirituals-10564
END:VEVENT

END:VCALENDAR
