BEGIN:VCALENDAR
VERSION:2.0
PRODID:-//ChamberMaster//Event Calendar 2.0//EN
METHOD:PUBLISH
X-PUBLISHED-TTL:P3D
REFRESH-INTERVAL:P3D
CALSCALE:GREGORIAN
BEGIN:VEVENT
DTSTART:20180324T123000Z
DTEND:20180324T190000Z
X-MICROSOFT-CDO-ALLDAYEVENT:FALSE
SUMMARY:Easter Bazaar
DESCRIPTION:Homemade pierogi\, babka & kolach breads\, Kruschiki\, cheesecake\, butter lambs\, and kielbasa. Raflles and more.
X-ALT-DESC;FMTTYPE=text/html:Homemade pierogi\, babka &amp\; kolach breads\, Kruschiki\, cheesecake\, butter lambs\, and kielbasa. Raflles and more.
LOCATION:Holy Spirit Ukrainian Catholic Church\, 44 Sugarloaf Street\, South Deerfield
UID:e.2182.10035
SEQUENCE:3
DTSTAMP:20260425T150710Z
URL:http://franklincc.chambermaster.com/events/details/easter-bazaar-10035
END:VEVENT

END:VCALENDAR
