BEGIN:VCALENDAR
VERSION:2.0
PRODID:-//ChamberMaster//Event Calendar 2.0//EN
METHOD:PUBLISH
X-PUBLISHED-TTL:P3D
REFRESH-INTERVAL:P3D
CALSCALE:GREGORIAN
BEGIN:VEVENT
DTSTART:20180403T163000Z
DTEND:20180403T180000Z
X-MICROSOFT-CDO-ALLDAYEVENT:FALSE
SUMMARY:Education “Intent” Information Session
DESCRIPTION:Thinking about teaching? Not sure\, but want to know more? Join us for an information session for education "intent" students. Learn about teaching in community programs\, public school settings\, and opportunities in related fields\; explore your degree options at GCC\; have your questions answered about certification and licensure\; discover transfer options to 4-year colleges in the region\; map out a plan to get from here to there! Lunch provided to participants.
X-ALT-DESC;FMTTYPE=text/html:Thinking about teaching? Not sure\, but want to know more? Join us for an information session for education &ldquo\;intent&rdquo\; students. Learn about teaching in community programs\, public school settings\, and opportunities in related fields\; explore your degree options at GCC\; have your questions answered about certification and licensure\; discover transfer options to 4-year colleges in the region\; map out a plan to get from here to there! Lunch provided to participants.
LOCATION:Greenfield Community College\, South Building- S306\, 1 College Drive\, Greenfield
UID:e.2182.10087
SEQUENCE:3
DTSTAMP:20260425T125631Z
URL:http://franklincc.chambermaster.com/events/details/education-intent-information-session-10087
END:VEVENT

END:VCALENDAR
