BEGIN:VCALENDAR
VERSION:2.0
PRODID:-//ChamberMaster//Event Calendar 2.0//EN
METHOD:PUBLISH
X-PUBLISHED-TTL:P3D
REFRESH-INTERVAL:P3D
CALSCALE:GREGORIAN
BEGIN:VEVENT
DTSTART:20180905T140000Z
DTEND:20180905T161500Z
X-MICROSOFT-CDO-ALLDAYEVENT:FALSE
SUMMARY:Elementary Spanish I
DESCRIPTION:Fundamentals of Spanish. The course emphasizes the acquisition of language functions\, vocabulary\, structures\, and culture through contextualized presentations\, interactive activities and extensive laboratory practice. This is the non-credit option of SPA 101. http://greenfieldcc.3dcartstores.com/Elementary-Spanish-1_p_364.html
X-ALT-DESC;FMTTYPE=text/html:Fundamentals of Spanish. The course emphasizes the acquisition of language functions\, vocabulary\, structures\, and culture through contextualized presentations\, interactive activities and extensive laboratory practice. This is the non-credit option of SPA 101. http://greenfieldcc.3dcartstores.com/Elementary-Spanish-1_p_364.html
LOCATION:Greenfield Community College
UID:e.2182.12740
SEQUENCE:3
DTSTAMP:20260423T201533Z
URL:http://franklincc.chambermaster.com/events/details/elementary-spanish-i-12740
END:VEVENT

END:VCALENDAR
