BEGIN:VCALENDAR
VERSION:2.0
PRODID:-//ChamberMaster//Event Calendar 2.0//EN
METHOD:PUBLISH
X-PUBLISHED-TTL:P3D
REFRESH-INTERVAL:P3D
CALSCALE:GREGORIAN
BEGIN:VEVENT
DTSTART:20180521T220000Z
DTEND:20180522T020000Z
X-MICROSOFT-CDO-ALLDAYEVENT:FALSE
SUMMARY:EMT Basic- 14 week course
DESCRIPTION:This very intensive class provides training in the primary care of injuries\, acute illnesses\, cardiac situations\, birth\, and other types of emergency situations. Learn rescue extrication\, communication\, legal implications\, and ambulance equipment training. Students successfully completing the course are eligible to sit for the NREMT Certification Exam. More information online: http://greenfieldcc.3dcartstores.com/EMT-Basic_p_998.html
X-ALT-DESC;FMTTYPE=text/html:This very intensive class provides training in the primary care of injuries\, acute illnesses\, cardiac situations\, birth\, and other types of emergency situations. Learn rescue extrication\, communication\, legal implications\, and ambulance equipment training. Students successfully completing the course are eligible to sit for the NREMT Certification Exam. More information online: http://greenfieldcc.3dcartstores.com/EMT-Basic_p_998.html
LOCATION:Greenfield Community College
UID:e.2182.11720
SEQUENCE:3
DTSTAMP:20260423T130119Z
URL:http://franklincc.chambermaster.com/events/details/emt-basic-14-week-course-11720
END:VEVENT

END:VCALENDAR
