BEGIN:VCALENDAR
VERSION:2.0
PRODID:-//ChamberMaster//Event Calendar 2.0//EN
METHOD:PUBLISH
X-PUBLISHED-TTL:P3D
REFRESH-INTERVAL:P3D
CALSCALE:GREGORIAN
BEGIN:VEVENT
DTSTART:20180302T180000Z
DTEND:20180302T220000Z
X-MICROSOFT-CDO-ALLDAYEVENT:FALSE
SUMMARY:Exhibit: Great and Small
DESCRIPTION:An exhibit celebrating the year of the dog.
X-ALT-DESC;FMTTYPE=text/html:An exhibit celebrating the year of the dog.
LOCATION:The Art Garden\, 4 Union Street\, Shelburne Falls
UID:e.2182.9687
SEQUENCE:3
DTSTAMP:20260425T171027Z
URL:http://franklincc.chambermaster.com/events/details/exhibit-great-and-small-9687
END:VEVENT

END:VCALENDAR
