BEGIN:VCALENDAR
VERSION:2.0
PRODID:-//ChamberMaster//Event Calendar 2.0//EN
METHOD:PUBLISH
X-PUBLISHED-TTL:P3D
REFRESH-INTERVAL:P3D
CALSCALE:GREGORIAN
BEGIN:VEVENT
DTSTART:20180302T023000Z
DTEND:20180302T045500Z
X-MICROSOFT-CDO-ALLDAYEVENT:FALSE
SUMMARY:Falltown String Band
DESCRIPTION:American roots\, folk\, jazz and country standards and blues.
X-ALT-DESC;FMTTYPE=text/html:American roots\, folk\, jazz and country standards and blues.
LOCATION:The Rendezvous\, 78 Third St.\, Turners Falls
UID:e.2182.9637
SEQUENCE:3
DTSTAMP:20260424T115717Z
URL:http://franklincc.chambermaster.com/events/details/falltown-string-band-9637
END:VEVENT

END:VCALENDAR
