BEGIN:VCALENDAR
VERSION:2.0
PRODID:-//ChamberMaster//Event Calendar 2.0//EN
METHOD:PUBLISH
X-PUBLISHED-TTL:P3D
REFRESH-INTERVAL:P3D
CALSCALE:GREGORIAN
BEGIN:VEVENT
DTSTART:20170922T112000Z
DTEND:20170922T130000Z
X-MICROSOFT-CDO-ALLDAYEVENT:FALSE
SUMMARY:FCCC September Chamber Breakfast
DESCRIPTION:Welcome back from summer to our Breakfast Series on Friday\, September 22. The United Way of  Franklin County is kicking off their 80th Anniversary Campaign.  Sandy Sayers\, Executive Director will recap activities from last year and what's to come for 2018. Campaign Co-Chairs\, Mike Rifanburg\, Publisher of The Recorder\, and Maeve Shaughnessy\, a member of the Franklin County Young Professional's\, will be speaking about the upcoming campaign and how you can participate. The 80th Anniversary UW video will be featured.\n\nThanks to our breakfast sponsors:\n\nMelanson Heath\n\nBaystate Franklin Medical Center\n\nBusinessWest\n\nHealthCare News
X-ALT-DESC;FMTTYPE=text/html:<p>Welcome back from summer to our Breakfast Series on <strong>Friday\, September 22</strong>. The<strong> United Way of&nbsp\; Franklin County</strong> is kicking off their <strong>80th Anniversary Campaign</strong>.&nbsp\; <em>Sandy Sayers</em>\, Executive Director will recap activities from last year and what&#39\;s to come for 2018. Campaign Co-Chairs\, <em>Mike Rifanburg</em>\, Publisher of The Recorder\, and <em>Maeve Shaughnessy</em>\, a member of the Franklin County Young Professional&#39\;s\, will be speaking about the upcoming campaign and how you can participate. The 80th Anniversary UW video will be featured.<br />\nThanks to our breakfast sponsors:<br />\nMelanson Heath<br />\nBaystate Franklin Medical Center<br />\nBusinessWest<br />\nHealthCare News</p>\n
LOCATION:Franklin County Tech School located at 82 Industrial Boulevard in the Turners Falls Industrial Park\, Turners Falls
UID:e.2182.8654
SEQUENCE:3
DTSTAMP:20260425T172004Z
URL:http://franklincc.chambermaster.com/events/details/fccc-september-chamber-breakfast-8654
END:VEVENT

END:VCALENDAR
