BEGIN:VCALENDAR
VERSION:2.0
PRODID:-//ChamberMaster//Event Calendar 2.0//EN
METHOD:PUBLISH
X-PUBLISHED-TTL:P3D
REFRESH-INTERVAL:P3D
CALSCALE:GREGORIAN
BEGIN:VEVENT
DTSTART;VALUE=DATE:20180405
DTEND;VALUE=DATE:20180406
TRANSP:TRANSPARENT
X-MICROSOFT-CDO-ALLDAYEVENT:TRUE
SUMMARY:GCC-Registration for current students
DESCRIPTION:Registration for summer and fall for current GCC students begins. Course schedule available online two weeks prior.
X-ALT-DESC;FMTTYPE=text/html:Registration for summer and fall for current GCC students begins. Course schedule available online two weeks prior.
LOCATION:C103 of GCC's Main Building Office of Admission Greenfield Community College One College Drive Greenfield\, MA 01301
UID:e.2182.10085
SEQUENCE:3
DTSTAMP:20260424T171712Z
URL:http://franklincc.chambermaster.com/events/details/gcc-registration-for-current-students-10085
END:VEVENT

END:VCALENDAR
