BEGIN:VCALENDAR
VERSION:2.0
PRODID:-//ChamberMaster//Event Calendar 2.0//EN
METHOD:PUBLISH
X-PUBLISHED-TTL:P3D
REFRESH-INTERVAL:P3D
CALSCALE:GREGORIAN
BEGIN:VEVENT
DTSTART:20180629T003000Z
DTEND:20180629T030000Z
X-MICROSOFT-CDO-ALLDAYEVENT:FALSE
SUMMARY:Hillary Chase
DESCRIPTION:Soulful singer/songwriter. Christa Speroni opens the show.
X-ALT-DESC;FMTTYPE=text/html:Soulful singer/songwriter. Christa Speroni opens the show.
LOCATION:The Rendezvous\, 78 Third Street\, Turners Falls
UID:e.2182.12600
SEQUENCE:3
DTSTAMP:20260419T150304Z
URL:http://franklincc.chambermaster.com/events/details/hillary-chase-12600
END:VEVENT

END:VCALENDAR
