BEGIN:VCALENDAR
VERSION:2.0
PRODID:-//ChamberMaster//Event Calendar 2.0//EN
METHOD:PUBLISH
X-PUBLISHED-TTL:P3D
REFRESH-INTERVAL:P3D
CALSCALE:GREGORIAN
BEGIN:VEVENT
DTSTART:20180405T120000Z
DTEND:20180405T200000Z
X-MICROSOFT-CDO-ALLDAYEVENT:FALSE
SUMMARY:I Love My Clogs
DESCRIPTION:Presented by Comfort Shoes and Socks. Featuring such brands as Dansko\, Klogs\, Spring Step\, and Alegria. Sponsored by the Gift Shop to benefit patients and services at Baystate Franklin Medical Center.
X-ALT-DESC;FMTTYPE=text/html:Presented by Comfort Shoes and Socks. Featuring such brands as Dansko\,&nbsp\;Klogs\, Spring Step\, and Alegria. Sponsored by the Gift Shop to benefit patients and services at Baystate Franklin Medical Center.
LOCATION:Main Lobby at Baystate Franklin Medical Center\, 164 High Street in Greenfield
UID:e.2182.10042
SEQUENCE:3
DTSTAMP:20260425T171027Z
URL:http://franklincc.chambermaster.com/events/details/i-love-my-clogs-10042
END:VEVENT

END:VCALENDAR
