BEGIN:VCALENDAR
VERSION:2.0
PRODID:-//ChamberMaster//Event Calendar 2.0//EN
METHOD:PUBLISH
X-PUBLISHED-TTL:P3D
REFRESH-INTERVAL:P3D
CALSCALE:GREGORIAN
BEGIN:VEVENT
DTSTART:20180604T223000Z
DTEND:20180605T003000Z
X-MICROSOFT-CDO-ALLDAYEVENT:FALSE
SUMMARY:Learn to Knit
DESCRIPTION:Try your hand at knitting and see how far you can go. Learn the basics of knitting including how to cast on\, knit\, purl and bind off. Geared for beginners and includes a pair of knitting needles. Limited seats available. Recommended supplies: You are welcome to bring a skein yarn for practice and another skein for your project. We'll start with size 8 straight needles and you are welcome to bring your own. Fingerless gloves. Scissors
X-ALT-DESC;FMTTYPE=text/html:Try your hand at knitting and see how far you can go. Learn the basics of knitting including how to cast on\, knit\, purl and bind off. Geared for beginners and includes a pair of knitting needles. Limited seats available. Recommended supplies: You are welcome to bring a skein yarn for practice and another skein for your project. We&rsquo\;ll start with size 8 straight needles and you are welcome to bring your own. Fingerless gloves. Scissors
LOCATION:Greenfield Community College\, One College Drive\, Greenfield
UID:e.2182.11718
SEQUENCE:3
DTSTAMP:20260420T003838Z
URL:http://franklincc.chambermaster.com/events/details/learn-to-knit-11718
END:VEVENT

END:VCALENDAR
