BEGIN:VCALENDAR
VERSION:2.0
PRODID:-//ChamberMaster//Event Calendar 2.0//EN
METHOD:PUBLISH
X-PUBLISHED-TTL:P3D
REFRESH-INTERVAL:P3D
CALSCALE:GREGORIAN
BEGIN:VEVENT
DTSTART:20181006T140000Z
DTEND:20181006T170000Z
X-MICROSOFT-CDO-ALLDAYEVENT:FALSE
SUMMARY:Learning Tree Bark
DESCRIPTION:Have you ever looked at a tree in winter and wondered what it might be? For nearly half the year\, bark provides the best clue to tree ID. Become familiar with the characteristic bark of different trees in different habitats and at a different stage of growth. Bring binoculars\, water and the book Bark by Michael Wojtech if you have a copy. This will not be a fast walk. Dress accordingly and bring plenty of water and snacks   we will not be stopping for lunch. Notes/Directions: We will be meeting at the Notch visitor center off rte. 116 in Amherst. This can be reached by going south from Atkins Farm. The parking area is at the top of the hill on the east side of the road which is the left hand side coming from Amherst center. http://greenfieldcc.3dcartstores.com/Learning-Tree-Bark_p_1488.html
X-ALT-DESC;FMTTYPE=text/html:Have you ever looked at a tree in winter and wondered what it might be? For nearly half the year\, bark provides the best clue to tree ID. Become familiar with the characteristic bark of different trees in different habitats and at a different stage of growth. Bring binoculars\, water and the book Bark by Michael Wojtech if you have a copy. This will not be a fast walk. Dress accordingly and bring plenty of water and snacks &ndash\; we will not be stopping for lunch. Notes/Directions: We will be meeting at the Notch visitor center off rte. 116 in Amherst. This can be reached by going south from Atkins Farm. The parking area is at the top of the hill on the east side of the road which is the left hand side coming from Amherst center. http://greenfieldcc.3dcartstores.com/Learning-Tree-Bark_p_1488.html
LOCATION:Field- GCC
UID:e.2182.13248
SEQUENCE:3
DTSTAMP:20260423T173029Z
URL:http://franklincc.chambermaster.com/events/details/learning-tree-bark-13248
END:VEVENT

END:VCALENDAR
