BEGIN:VCALENDAR
VERSION:2.0
PRODID:-//ChamberMaster//Event Calendar 2.0//EN
METHOD:PUBLISH
X-PUBLISHED-TTL:P3D
REFRESH-INTERVAL:P3D
CALSCALE:GREGORIAN
BEGIN:VEVENT
DTSTART:20180310T023000Z
DTEND:20180310T043000Z
X-MICROSOFT-CDO-ALLDAYEVENT:FALSE
SUMMARY:Lunar Carnival
DESCRIPTION:Lunar Carnival performs gypsy jazz.
X-ALT-DESC;FMTTYPE=text/html:Lunar Carnival performs gypsy jazz.
LOCATION:The Rendezvous\, 78 Third Street\, Turners Falls
UID:e.2182.9833
SEQUENCE:3
DTSTAMP:20260426T024946Z
URL:http://franklincc.chambermaster.com/events/details/lunar-carnival-9833
END:VEVENT

END:VCALENDAR
