BEGIN:VCALENDAR
VERSION:2.0
PRODID:-//ChamberMaster//Event Calendar 2.0//EN
METHOD:PUBLISH
X-PUBLISHED-TTL:P3D
REFRESH-INTERVAL:P3D
CALSCALE:GREGORIAN
BEGIN:VEVENT
DTSTART:20180331T230000Z
DTEND:20180401T010000Z
X-MICROSOFT-CDO-ALLDAYEVENT:FALSE
SUMMARY:Mockingbirds at Moonlight
DESCRIPTION:An indie folk-rock band new to the scenes of Portland\, Maine\, featuring three-part harmonies.
X-ALT-DESC;FMTTYPE=text/html:An indie folk-rock band new to the scenes of Portland\, Maine\, featuring three-part harmonies.
LOCATION:Hawks & Reed Performing Arts Center\, 289 Main Street\, Greenfield
UID:e.2182.10343
SEQUENCE:3
DTSTAMP:20260425T201525Z
URL:http://franklincc.chambermaster.com/events/details/mockingbirds-at-moonlight-10343
END:VEVENT

END:VCALENDAR
