BEGIN:VCALENDAR
VERSION:2.0
PRODID:-//ChamberMaster//Event Calendar 2.0//EN
METHOD:PUBLISH
X-PUBLISHED-TTL:P3D
REFRESH-INTERVAL:P3D
CALSCALE:GREGORIAN
BEGIN:VEVENT
DTSTART:20180405T180000Z
DTEND:20180405T193000Z
X-MICROSOFT-CDO-ALLDAYEVENT:FALSE
SUMMARY:Outdoor Leadership Program Info Session
DESCRIPTION:Join us for this free and fun 90 minute informational presentation about our unique Outdoor Leadership Program. OLP has been training students to become working outdoor professionals since 1980. Our graduates are highly sought after throughout the outdoor recreation and adventure education fields in Massachusetts\, New England\, and across the United States. Our graduates can be found working in such dynamic outdoor industries and careers as: Climbing Gyms Wilderness Guides Outdoor Equipment Retail Camps Ski Areas Rafting Companies Challenge Courses Outing Clubs State and National Parks Colleges & Universities Wilderness Therapy Cycle Touring Kayak Guides Tour Guides   and much more! Meet Outdoor Leadership Program Coordinator\, Bob Tremblay. Visit the OLP classroom and the indoor climbing wall. Ask questions and get answers! Learn how to tie the safest knot in all of rock climbing!
X-ALT-DESC;FMTTYPE=text/html:Join us for this free and fun 90 minute informational presentation about our unique Outdoor Leadership Program. OLP has been training students to become working outdoor professionals since 1980. Our graduates are highly sought after throughout the outdoor recreation and adventure education fields in Massachusetts\, New England\, and across the United States. Our graduates can be found working in such dynamic outdoor industries and careers as: Climbing Gyms Wilderness Guides Outdoor Equipment Retail Camps Ski Areas Rafting Companies Challenge Courses Outing Clubs State and National Parks Colleges &amp\; Universities Wilderness Therapy Cycle Touring Kayak Guides Tour Guides &hellip\; and much more! Meet Outdoor Leadership Program Coordinator\, Bob Tremblay. Visit the OLP classroom and the indoor climbing wall. Ask questions and get answers! Learn how to tie the safest knot in all of rock climbing!
LOCATION:N102 GCC Main Campus One College Drive Greenfield\, MA
UID:e.2182.10079
SEQUENCE:3
DTSTAMP:20260424T143145Z
URL:http://franklincc.chambermaster.com/events/details/outdoor-leadership-program-info-session-10079
END:VEVENT

END:VCALENDAR
