BEGIN:VCALENDAR
VERSION:2.0
PRODID:-//ChamberMaster//Event Calendar 2.0//EN
METHOD:PUBLISH
X-PUBLISHED-TTL:P3D
REFRESH-INTERVAL:P3D
CALSCALE:GREGORIAN
BEGIN:VEVENT
DTSTART:20180304T130000Z
DTEND:20180304T160000Z
X-MICROSOFT-CDO-ALLDAYEVENT:FALSE
SUMMARY:Pancake Breakfast
DESCRIPTION:Menu: pancakes (plain\, blueberry\, buckwheat) with maple syrup\, bacon\, sausage\, fresh fruit salad\, coffee\, tea\, juice\, milk\, hot chocolate. Raffles.\n\nFundraiser for Whately Elementary School PTO.
X-ALT-DESC;FMTTYPE=text/html:Menu: pancakes (plain\, blueberry\, buckwheat) with maple syrup\, bacon\, sausage\, fresh fruit salad\, coffee\, tea\, juice\, milk\, hot chocolate. Raffles.<br />\nFundraiser for Whately Elementary School PTO.
LOCATION:Whately Elementary School\, 273 Long Plain Road\, Whately
UID:e.2182.9758
SEQUENCE:3
DTSTAMP:20260425T114906Z
URL:http://franklincc.chambermaster.com/events/details/pancake-breakfast-9758
END:VEVENT

END:VCALENDAR
