BEGIN:VCALENDAR
VERSION:2.0
PRODID:-//ChamberMaster//Event Calendar 2.0//EN
METHOD:PUBLISH
X-PUBLISHED-TTL:P3D
REFRESH-INTERVAL:P3D
CALSCALE:GREGORIAN
BEGIN:VEVENT
DTSTART:20180224T120000Z
DTEND:20180224T150000Z
X-MICROSOFT-CDO-ALLDAYEVENT:FALSE
SUMMARY:Pancake Breakfast Fundraiser
DESCRIPTION:Pancake Breakfast - Proceeds to benefit the family of Hal Dandeneau who recently lost his battle with cancer. Pancakes\, Bacon\, OJ\, Milk\, Coffee. \n\n\n\nHosted by the Rowe Fire Department with support from the Indian Head Snowmobile Club.
X-ALT-DESC;FMTTYPE=text/html:<span style="color: rgb(75\, 79\, 86)\; font-family: Helvetica\, Arial\, sans-serif\; font-size: 14px\;">Pancake Breakfast - Proceeds to benefit the family of Hal Dandeneau who recently lost his battle with cancer. Pancakes\, Bacon\, OJ\, Milk\, Coffee.&nbsp\;</span><br style="color: rgb(75\, 79\, 86)\; font-family: Helvetica\, Arial\, sans-serif\; font-size: 14px\;" />\n<br style="color: rgb(75\, 79\, 86)\; font-family: Helvetica\, Arial\, sans-serif\; font-size: 14px\;" />\n<span style="color: rgb(75\, 79\, 86)\; font-family: Helvetica\, Arial\, sans-serif\; font-size: 14px\;">Hosted by the Rowe Fire Department with support from the Indian Head Snowmobile Club.</span>
LOCATION:Rowe Elementary School\, 4 Sibley Road\, Rowe
UID:e.2182.9622
SEQUENCE:3
DTSTAMP:20260425T115421Z
URL:http://franklincc.chambermaster.com/events/details/pancake-breakfast-fundraiser-9622
END:VEVENT

END:VCALENDAR
