BEGIN:VCALENDAR
VERSION:2.0
PRODID:-//ChamberMaster//Event Calendar 2.0//EN
METHOD:PUBLISH
X-PUBLISHED-TTL:P3D
REFRESH-INTERVAL:P3D
CALSCALE:GREGORIAN
BEGIN:VEVENT
DTSTART:20180524T230000Z
DTEND:20180525T010000Z
X-MICROSOFT-CDO-ALLDAYEVENT:FALSE
SUMMARY:Peter "Archguitar" Blanchette
DESCRIPTION:Guitarist\, composer\, arranger and conductor Peter Blanchette is known around the world as the inventor of the 11-string archguitar. His extraordinary repertoire of internationally acclaimed arrangements and compositions spans from the medieval\, renaissance and baroque music to World Music\, New Music\, and his own original pieces. He performs and records in solo recital or with selected other instrumentalists to form the Virtual Consort. He has been heard on hundreds of recordings\, film and television scores\, public radio in the US\, Canada\, Europe and across Asia\, on his own 17 archguitar albums for the Dorian label and his own imprint\, Archguitar Music.\n\nConcert & Dinner Package options: Chicken Marsala (Chicken Cutlets\, Mushrooms\, and Marsala wine) or Butternut Squash Ravioli in an Asiago Almond Pesto. Both options include Soup and Dessert.
X-ALT-DESC;FMTTYPE=text/html:Guitarist\, composer\, arranger and conductor Peter Blanchette is known around the world as the inventor of the 11-string archguitar. His extraordinary repertoire of internationally acclaimed arrangements and compositions spans from the medieval\, renaissance and baroque music to World Music\, New Music\, and his own original pieces. He performs and records in solo recital or with selected other instrumentalists to form the Virtual Consort. He has been heard on hundreds of recordings\, film and television scores\, public radio in the US\, Canada\, Europe and across Asia\, on his own 17 archguitar albums for the Dorian label and his own imprint\, Archguitar Music.<br />\nConcert &amp\; Dinner Package options: Chicken Marsala (Chicken Cutlets\, Mushrooms\, and Marsala wine) or Butternut Squash Ravioli in an Asiago Almond Pesto. Both options include Soup and Dessert.
LOCATION:Hawks and Reed Performing Arts Center\, 289 Main Street\, Greenfeld
UID:e.2182.12214
SEQUENCE:3
DTSTAMP:20260426T024946Z
URL:http://franklincc.chambermaster.com/events/details/peter-archguitar-blanchette-12214
END:VEVENT

END:VCALENDAR
