BEGIN:VCALENDAR
VERSION:2.0
PRODID:-//ChamberMaster//Event Calendar 2.0//EN
METHOD:PUBLISH
X-PUBLISHED-TTL:P3D
REFRESH-INTERVAL:P3D
CALSCALE:GREGORIAN
BEGIN:VEVENT
DTSTART:20180419T220000Z
DTEND:20180420T003000Z
X-MICROSOFT-CDO-ALLDAYEVENT:FALSE
SUMMARY:Pillow Mania
DESCRIPTION:Learn basic and practical sewing techniques while using zippers and buttons. Create a pillow with an invisible or lapped zipper and buttons using repurposed fabrics. Register early - limited space available. 4/19 5/3\, 6:00 8:30 pm\, 3 wks http://greenfieldcc.3dcartstores.com/Pillow-Mania_p_1491.html
X-ALT-DESC;FMTTYPE=text/html:Learn basic and practical sewing techniques while using zippers and buttons. Create a pillow with an invisible or lapped zipper and buttons using repurposed fabrics. Register early - limited space available. 4/19&ndash\;5/3\, 6:00&ndash\;8:30 pm\, 3 wks <a href="http://greenfieldcc.3dcartstores.com/Pillow-Mania_p_1491.html">http://greenfieldcc.3dcartstores.com/Pillow-Mania_p_1491.html</a>
LOCATION:Greenfield Community College\, One Collage Drive\, Greenfield
UID:e.2182.10647
SEQUENCE:3
DTSTAMP:20260424T043128Z
URL:http://franklincc.chambermaster.com/events/details/pillow-mania-10647
END:VEVENT

END:VCALENDAR
