BEGIN:VCALENDAR
VERSION:2.0
PRODID:-//ChamberMaster//Event Calendar 2.0//EN
METHOD:PUBLISH
X-PUBLISHED-TTL:P3D
REFRESH-INTERVAL:P3D
CALSCALE:GREGORIAN
BEGIN:VEVENT
DTSTART:20180407T180000Z
DTEND:20180407T200000Z
X-MICROSOFT-CDO-ALLDAYEVENT:FALSE
SUMMARY:Pine Hill Orchards 6th Annual Easter Egg Hunt
DESCRIPTION:Rescheduled to April 7. Come search in the orchard for over 4000 eggs!!! Meet and take pictures with the Easter Bunny.... visit the animals in Pine Hill's Barnyard..... decorate cookies.... and more!! Of course we will have our Famous Cider Donuts and our own fresh pressed cider for all to enjoy! \n\nEaster Egg Hunt begins promptly at 2pm!
X-ALT-DESC;FMTTYPE=text/html:<span style="color: rgb(75\, 79\, 86)\; font-family: Helvetica\, Arial\, sans-serif\; font-size: 14px\;">Rescheduled to April 7. Come search in the orchard for over 4000 eggs!!! Meet and take pictures with the Easter Bunny.... visit the animals in Pine Hill&#39\;s Barnyard..... decorate cookies.... and more!! Of course we will have our Famous Cider Donuts and our own fresh pressed cider for all to enjoy!&nbsp\;</span><br style="color: rgb(75\, 79\, 86)\; font-family: Helvetica\, Arial\, sans-serif\; font-size: 14px\;" />\n<span style="color: rgb(75\, 79\, 86)\; font-family: Helvetica\, Arial\, sans-serif\; font-size: 14px\;">Easter Egg Hunt begins promptly at 2pm!</span>
LOCATION:Pine Hill Orchards\, 248 Greenfield Road\, Colrain
UID:e.2182.9799
SEQUENCE:3
DTSTAMP:20260424T223345Z
URL:http://franklincc.chambermaster.com/events/details/pine-hill-orchards-6th-annual-easter-egg-hunt-9799
END:VEVENT

END:VCALENDAR
