BEGIN:VCALENDAR
VERSION:2.0
PRODID:-//ChamberMaster//Event Calendar 2.0//EN
METHOD:PUBLISH
X-PUBLISHED-TTL:P3D
REFRESH-INTERVAL:P3D
CALSCALE:GREGORIAN
BEGIN:VEVENT
DTSTART:20180309T023000Z
DTEND:20180309T045500Z
X-MICROSOFT-CDO-ALLDAYEVENT:FALSE
SUMMARY:President Metry
DESCRIPTION:Rising young hip-hop performer from North Carolina
X-ALT-DESC;FMTTYPE=text/html:Rising young hip-hop performer from North Carolina
LOCATION:The Rendezvous\, 78 Third St.\, Turners Falls
UID:e.2182.9635
SEQUENCE:3
DTSTAMP:20260426T023515Z
URL:http://franklincc.chambermaster.com/events/details/president-metry-9635
END:VEVENT

END:VCALENDAR
