BEGIN:VCALENDAR
VERSION:2.0
PRODID:-//ChamberMaster//Event Calendar 2.0//EN
METHOD:PUBLISH
X-PUBLISHED-TTL:P3D
REFRESH-INTERVAL:P3D
CALSCALE:GREGORIAN
BEGIN:VEVENT
DTSTART:20180216T230000Z
DTEND:20180217T020000Z
X-MICROSOFT-CDO-ALLDAYEVENT:FALSE
SUMMARY:Ragged Blue\, Participation Trophy
DESCRIPTION:Bluegrass and Celtic Music featuring Corki Demers\, fiddle/mandolin\; John Rough\, banjo\; and Terry Atkinson\, guitar. Free.
X-ALT-DESC;FMTTYPE=text/html:Bluegrass and Celtic Music featuring Corki Demers\, fiddle/mandolin\; John Rough\, banjo\; and Terry Atkinson\, guitar. Free.
LOCATION:The Rendezvous\, 78 Third Street\, Turners Falls
UID:e.2182.9628
SEQUENCE:3
DTSTAMP:20260425T151337Z
URL:http://franklincc.chambermaster.com/events/details/ragged-blue-participation-trophy-9628
END:VEVENT

END:VCALENDAR
