BEGIN:VCALENDAR
VERSION:2.0
PRODID:-//ChamberMaster//Event Calendar 2.0//EN
METHOD:PUBLISH
X-PUBLISHED-TTL:P3D
REFRESH-INTERVAL:P3D
CALSCALE:GREGORIAN
BEGIN:VEVENT
DTSTART:20180812T003000Z
DTEND:20180812T030000Z
X-MICROSOFT-CDO-ALLDAYEVENT:FALSE
SUMMARY:Ray Mason
DESCRIPTION:Solo original rock\, pop and roll.
X-ALT-DESC;FMTTYPE=text/html:Solo original rock\, pop and roll.
LOCATION:The Rendezvous\, 78 THird Street\, Turners Falls
UID:e.2182.12968
SEQUENCE:3
DTSTAMP:20260423T145810Z
URL:http://franklincc.chambermaster.com/events/details/ray-mason-12968
END:VEVENT

END:VCALENDAR
