BEGIN:VCALENDAR
VERSION:2.0
PRODID:-//ChamberMaster//Event Calendar 2.0//EN
METHOD:PUBLISH
X-PUBLISHED-TTL:P3D
REFRESH-INTERVAL:P3D
CALSCALE:GREGORIAN
BEGIN:VEVENT
DTSTART:20180310T010000Z
DTEND:20180310T030000Z
X-MICROSOFT-CDO-ALLDAYEVENT:FALSE
SUMMARY:River Rhapsody
DESCRIPTION:River Rhapsody is a Western Massachusetts based band focused on performing original music and the hidden gems of outstanding songwriters (Patty Griffin\, Ryan Adams\, Amy MacDonald\, Oliver Wood\, Susan Tedeschi\, Townes Van Zandt\, Stevie Wonder). The band runs a range of genres including folk\, rock\, country\, blues and soul. Their arrangements focus on bringing strong vocals and unique instrumentation to the mix.
X-ALT-DESC;FMTTYPE=text/html:<span style="color: rgb(75\, 79\, 86)\; font-family: Helvetica\, Arial\, sans-serif\; font-size: 14px\;">River Rhapsody is a Western Massachusetts based band focused on performing original music and the hidden gems of outstanding songwriters (Patty Griffin\, Ryan Adams\, Amy MacDonald\, Oliver Wood\, Susan Tedeschi\, Townes Van Zandt\, Stevie Wonder). The band runs a range of genres including folk\, rock\, country\, blues and soul. Their arrangements focus on bringing strong vocals and unique instrumentation to the mix.</span>
LOCATION:The Perch - Hawks & Reed Performing Arts Center\, 289 Main Street\, Greenfield
UID:e.2182.9820
SEQUENCE:3
DTSTAMP:20260425T114905Z
URL:http://franklincc.chambermaster.com/events/details/river-rhapsody-9820
END:VEVENT

END:VCALENDAR
