BEGIN:VCALENDAR
VERSION:2.0
PRODID:-//ChamberMaster//Event Calendar 2.0//EN
METHOD:PUBLISH
X-PUBLISHED-TTL:P3D
REFRESH-INTERVAL:P3D
CALSCALE:GREGORIAN
BEGIN:VEVENT
DTSTART:20180421T013000Z
DTEND:20180421T035500Z
X-MICROSOFT-CDO-ALLDAYEVENT:FALSE
SUMMARY:Sedagive
DESCRIPTION:A mix of country\, blues\, Beatles and folk covers and original songs.
X-ALT-DESC;FMTTYPE=text/html:A mix of country\, blues\, Beatles and folk covers and original songs.
LOCATION:The Rendevous\, 78 3rd Street\, Turners Falls
UID:e.2182.11727
SEQUENCE:3
DTSTAMP:20260424T043223Z
URL:http://franklincc.chambermaster.com/events/details/sedagive-11727
END:VEVENT

END:VCALENDAR
