BEGIN:VCALENDAR
VERSION:2.0
PRODID:-//ChamberMaster//Event Calendar 2.0//EN
METHOD:PUBLISH
X-PUBLISHED-TTL:P3D
REFRESH-INTERVAL:P3D
CALSCALE:GREGORIAN
BEGIN:VEVENT
DTSTART:20180224T023000Z
DTEND:20180224T045500Z
X-MICROSOFT-CDO-ALLDAYEVENT:FALSE
SUMMARY:Sedagive
DESCRIPTION:4 piece band plays original songs and folk\, country\, blues and more.
X-ALT-DESC;FMTTYPE=text/html:4 piece band plays original songs and folk\, country\, blues and more.
LOCATION:The Rendezvous 78 Third St. Turners Falls
UID:e.2182.9634
SEQUENCE:3
DTSTAMP:20260425T145109Z
URL:http://franklincc.chambermaster.com/events/details/sedagive-9634
END:VEVENT

END:VCALENDAR
