BEGIN:VCALENDAR
VERSION:2.0
PRODID:-//ChamberMaster//Event Calendar 2.0//EN
METHOD:PUBLISH
X-PUBLISHED-TTL:P3D
REFRESH-INTERVAL:P3D
CALSCALE:GREGORIAN
BEGIN:VEVENT
DTSTART:20180311T170000Z
DTEND:20180311T190000Z
X-MICROSOFT-CDO-ALLDAYEVENT:FALSE
SUMMARY:Shelburne School Days
DESCRIPTION:A brief history of Shelburne schools since 1795 when 8 district schools were started in the area. Moving through changes to schools throughout the town including the founding of Arms Academy in 1880 to the Buckland-Shelburne Regional Elementary School's opening in 1959.\n\nA Panel discussion with former students will explore their school experience during different generations. Touching on time periods such as the Great Baby Boom and how this affected education in our area.\n\nThere will be photos\, yearbooks\, and other artifacts on display to help satisfy your curiosity. Come bring your own stories to share as well.\n\nRefreshments served. Free and open to the public.
X-ALT-DESC;FMTTYPE=text/html:A brief history of Shelburne schools since 1795 when 8 district schools were started in the area. Moving through changes to schools throughout the town including the founding of Arms Academy in 1880 to the Buckland-Shelburne Regional Elementary School&rsquo\;s opening in 1959.<br />\nA Panel discussion with former students will explore their school experience during different generations. Touching on time periods such as the Great Baby Boom and how this affected education in our area.<br />\nThere will be photos\, yearbooks\, and other artifacts on display to help satisfy your curiosity. Come bring your own stories to share as well.<br />\nRefreshments served. Free and open to the public.
LOCATION:Shelburne Historical Society Arms Academy building\, corner of Maple St. and Church St.\, Shelburne Falls
UID:e.2182.9772
SEQUENCE:3
DTSTAMP:20260425T165942Z
URL:http://franklincc.chambermaster.com/events/details/shelburne-school-days-9772
END:VEVENT

END:VCALENDAR
