BEGIN:VCALENDAR
VERSION:2.0
PRODID:-//ChamberMaster//Event Calendar 2.0//EN
METHOD:PUBLISH
X-PUBLISHED-TTL:P3D
REFRESH-INTERVAL:P3D
CALSCALE:GREGORIAN
BEGIN:VEVENT
DTSTART:20171118T140000Z
DTEND:20171118T190000Z
X-MICROSOFT-CDO-ALLDAYEVENT:FALSE
SUMMARY:Snowflake Bazaar
DESCRIPTION:Featuring crafters of all kinds\, great goodies\, food table\, coffee can auction\, and opportunities table (scratch ticket tree\, grocery basket). Lunch served from 11 a.m. to 1 p.m.\n\nPresented by Arcana Chapter No. 50 Order of Eastern Star.
X-ALT-DESC;FMTTYPE=text/html:Featuring crafters of all kinds\, great goodies\, food table\, coffee can auction\, and opportunities table (scratch ticket tree\, grocery basket). Lunch served from 11 a.m. to 1 p.m.<br />\nPresented by Arcana Chapter No. 50 Order of Eastern Star.
LOCATION:Masonic Lodge Building\, 215 Munson Street in Greenfield
UID:e.2182.8958
SEQUENCE:3
DTSTAMP:20260426T023515Z
URL:http://franklincc.chambermaster.com/events/details/snowflake-bazaar-8958
END:VEVENT

END:VCALENDAR
