BEGIN:VCALENDAR
VERSION:2.0
PRODID:-//ChamberMaster//Event Calendar 2.0//EN
METHOD:PUBLISH
X-PUBLISHED-TTL:P3D
REFRESH-INTERVAL:P3D
CALSCALE:GREGORIAN
BEGIN:VEVENT
DTSTART:20180325T160000Z
DTEND:20180325T170000Z
X-MICROSOFT-CDO-ALLDAYEVENT:FALSE
SUMMARY:Spaghetti Dinner
DESCRIPTION:Spaghetti with house marinara\, handmade meatballs\, salad with Italian dressing\, fresh baked garlic bread and a canoli platter.
X-ALT-DESC;FMTTYPE=text/html:Spaghetti with house marinara\, handmade meatballs\, salad with Italian dressing\, fresh baked garlic bread and a canoli&nbsp\;platter.
LOCATION:Robbins Memorial Church\, 55 Munson Street\, Greenfield
UID:e.2182.10037
SEQUENCE:3
DTSTAMP:20260424T210829Z
URL:http://franklincc.chambermaster.com/events/details/spaghetti-dinner-10037
END:VEVENT

END:VCALENDAR
