BEGIN:VCALENDAR
VERSION:2.0
PRODID:-//ChamberMaster//Event Calendar 2.0//EN
METHOD:PUBLISH
X-PUBLISHED-TTL:P3D
REFRESH-INTERVAL:P3D
CALSCALE:GREGORIAN
BEGIN:VEVENT
DTSTART:20180210T150000Z
DTEND:20180210T173000Z
X-MICROSOFT-CDO-ALLDAYEVENT:FALSE
SUMMARY:Stoke the Fire Within
DESCRIPTION:Cultivate warmth from within as we join yoga and winter activities in the forested landscape of Northfield Mountain.  Relax and warm up with hiking or snowshoeing along the trails as we strengthen our connection to the natural world. exploring the vitality and stillness of the winter woods.  Revitalize the senses\, clear the mind and balance the body as we draw closer to natures' profound ability to inspire while strengthening wellness.  Gentle stretching and outdoor standing poses will be supported by the added stability of snowshoes or boots.  Led by Janice Doubleday\, certified yoga instructor and avid hiker and Northfield Mountain's Kim Noyes\, this new winter program will explore the confluence of two healthy activities in a beautiful outdoor setting.  Dress in warm layers that can be shed as we get moving and wear warm\, waterproof footwear.  Bring water\, an open mind and a sense of adventure and if available poles for hiking and a yoga mat for a quiet\, indoor conclusion.  If we are open for skiing\, snowshoes are required.
X-ALT-DESC;FMTTYPE=text/html:Cultivate warmth from within as we join yoga and winter activities in the forested landscape of Northfield Mountain.&nbsp\; Relax and warm up with hiking or snowshoeing along the trails as we strengthen our connection to the natural world. exploring the vitality and stillness of the winter woods.&nbsp\; Revitalize the senses\, clear the mind and balance the body as we draw closer to natures&rsquo\; profound ability to inspire while strengthening wellness.&nbsp\; Gentle stretching and outdoor standing poses will be supported by the added stability of snowshoes or boots.&nbsp\; Led by Janice Doubleday\, certified yoga instructor and avid hiker and Northfield Mountain&rsquo\;s Kim Noyes\, this new winter program will explore the confluence of two healthy activities in a beautiful outdoor setting.&nbsp\; Dress in warm layers that can be shed as we get moving and wear warm\, waterproof footwear.&nbsp\; Bring water\, an open mind and a sense of adventure and if available poles for hiking and a yoga mat for a quiet\, indoor conclusion.&nbsp\; If we are open for skiing\, snowshoes are required.&nbsp\;
LOCATION:Northfield Mountain Recreation Area\, Route 63\, Northfield
UID:e.2182.9543
SEQUENCE:3
DTSTAMP:20260425T114904Z
URL:http://franklincc.chambermaster.com/events/details/stoke-the-fire-within-9543
END:VEVENT

END:VCALENDAR
