BEGIN:VCALENDAR
VERSION:2.0
PRODID:-//ChamberMaster//Event Calendar 2.0//EN
METHOD:PUBLISH
X-PUBLISHED-TTL:P3D
REFRESH-INTERVAL:P3D
CALSCALE:GREGORIAN
BEGIN:VEVENT
DTSTART:20180511T230000Z
DTEND:20180512T010000Z
X-MICROSOFT-CDO-ALLDAYEVENT:FALSE
SUMMARY:The Terryiffics
DESCRIPTION:The band performs the best rock\, jazz\, blues\, country\, pop and other music from the 60s\, 70s\, and 80s\, right up to present day. Hot dogs\, popcorn\, soft drinks\, glow sticks and more will be on sale. Part of the Friendly Town Live concert series.
X-ALT-DESC;FMTTYPE=text/html:The band performs the best rock\, jazz\, blues\, country\, pop and other music from the 60s\, 70s\, and 80s\, right up to present day. Hot dogs\, popcorn\, soft drinks\, glow sticks and more will be on sale. Part of the Friendly Town Live concert series.
LOCATION:Perform on the big bandstand at Butterfield Park\, 83 East River Street in Orange.
UID:e.2182.12085
SEQUENCE:3
DTSTAMP:20260419T222325Z
URL:http://franklincc.chambermaster.com/events/details/the-terryiffics-12085
END:VEVENT

END:VCALENDAR
