BEGIN:VCALENDAR
VERSION:2.0
PRODID:-//ChamberMaster//Event Calendar 2.0//EN
METHOD:PUBLISH
X-PUBLISHED-TTL:P3D
REFRESH-INTERVAL:P3D
CALSCALE:GREGORIAN
BEGIN:VEVENT
DTSTART:20180324T230000Z
DTEND:20180325T010000Z
X-MICROSOFT-CDO-ALLDAYEVENT:FALSE
SUMMARY:Trailer Park
DESCRIPTION:A rock and roll band that has been traveling New England since 1994.
X-ALT-DESC;FMTTYPE=text/html:A rock and roll band that has been traveling New England since 1994.
LOCATION:Hawks & Reed Performing Arts Center\, 289 Main Street\, Greenfield
UID:e.2182.10032
SEQUENCE:3
DTSTAMP:20260425T144928Z
URL:http://franklincc.chambermaster.com/events/details/trailer-park-10032
END:VEVENT

END:VCALENDAR
