BEGIN:VCALENDAR
VERSION:2.0
PRODID:-//ChamberMaster//Event Calendar 2.0//EN
METHOD:PUBLISH
X-PUBLISHED-TTL:P3D
REFRESH-INTERVAL:P3D
CALSCALE:GREGORIAN
BEGIN:VEVENT
DTSTART:20180306T000000Z
DTEND:20180306T010000Z
X-MICROSOFT-CDO-ALLDAYEVENT:FALSE
SUMMARY:Visit with the Author - Roxann Davis
DESCRIPTION:Davis is the author of "Nightbeat". Along with the talk of "Nightbeat"\, participants may even get a teaser of what's to come in Davis' second book in the series featuring the team of crime reporter Devon Bailey and police officer Ari Knowles. Copies of the book will be available for purchase and signing.
X-ALT-DESC;FMTTYPE=text/html:Davis is the author of &quot\;Nightbeat&quot\;. Along with the talk of &quot\;Nightbeat&quot\;\, participants may even get a teaser of what&#39\;s to come in Davis&#39\; second book in the series featuring the team of crime reporter Devon Bailey and police officer Ari Knowles. Copies of the book will be available for purchase and signing.
LOCATION:Dickinson Memorial Library\, 115 Main Street\, Northfield
UID:e.2182.9659
SEQUENCE:3
DTSTAMP:20260425T201524Z
URL:http://franklincc.chambermaster.com/events/details/visit-with-the-author-roxann-davis-9659
END:VEVENT

END:VCALENDAR
