BEGIN:VCALENDAR
VERSION:2.0
PRODID:-//ChamberMaster//Event Calendar 2.0//EN
METHOD:PUBLISH
X-PUBLISHED-TTL:P3D
REFRESH-INTERVAL:P3D
CALSCALE:GREGORIAN
BEGIN:VEVENT
DTSTART:20180410T210000Z
DTEND:20180410T214500Z
X-MICROSOFT-CDO-ALLDAYEVENT:FALSE
SUMMARY:Warbler Madness
DESCRIPTION:Join David Brown and the Northfield Bird Club for a timely refresher on Massachusetts' warblers before their return from southern wintering grounds. "Warbler Madness" contains video footage of our migrant and resident wood warblers along with many of their songs. David Brown is an interpretive naturalist and wildlife videographer who has devoted many hours to studying and taping birds on their territories and on migration. Please visit his website: www.dbwildlife.com. Join us after the program for a short meeting of the Northfield Bird Club.
X-ALT-DESC;FMTTYPE=text/html:Join David Brown and the Northfield Bird Club for a timely refresher on Massachusetts&rsquo\; warblers before their return from southern wintering grounds. &ldquo\;Warbler Madness&rdquo\; contains video footage of our migrant and resident wood warblers along with many of their songs. David Brown is an interpretive naturalist and wildlife videographer who has devoted many hours to studying and taping birds on their territories and on migration. Please visit his website: <a href="http://www.dbwildlife.com">www.dbwildlife.com</a>. Join us after the program for a short meeting of the Northfield Bird Club.
LOCATION:Northfield Mountain and Recreation Center\, Rt 63\, Northfield
UID:e.2182.10063
SEQUENCE:3
DTSTAMP:20260425T125632Z
URL:http://franklincc.chambermaster.com/events/details/warbler-madness-10063
END:VEVENT

END:VCALENDAR
